BEGIN:VCALENDAR
VERSION:2.0
PRODID:Events Booking
BEGIN:VEVENT
UID:69ea1dd78a370
SUMMARY:Svetskurs 1 MIG/MAG - Mullsjö tis 5 maj 2026
DESCRIPTION:Introduktionskurs i MIG/MAG- svetsning. Kursen passar bra för 
 alla som vill komma igång med MIG/MAG- svetsning från grunden. Övningar
  i stål med moderna MIG/MAG- svetsar. Inga förkunskaper krävs.
LOCATION:Skolgatan 1A Mullsjö
DTSTART:20260505T070000Z
DTEND:20260505T150000Z
DTSTAMP:20260329T131921Z
ORGANIZER;CN=Kursbokning - Lindes Garage:MAILTO:info@classicautorestore.se
GEO:57.917847;13.887853
X-APPLE-STRUCTURED-LOCATION;VALUE=URI;X-ADDRESS=Skolgatan 1A Mullsjö;X-APP
 LE-RADIUS=72;X-TITLE=Lindes Garage:57.917847;13.887853
END:VEVENT
END:VCALENDAR