BEGIN:VCALENDAR
VERSION:2.0
PRODID:Events Booking
BEGIN:VEVENT
UID:69ea1cdb89317
SUMMARY:Plåtkurs 1 - Mullsjö ons 6 maj 2026
DESCRIPTION:Nybörjarkurs i plåtformning med engelskt hjul\, sick- och fal
 s samt krymp- och sträck där inga förkunskaper krävs. Kursen har ett u
 niversellt angreppssätt och färdigheterna kan användas för att skapa s
 åväl konstföremål som karosseridelar för bilar.
LOCATION:Skolgatan 1A Mullsjö
DTSTART:20260506T070000Z
DTEND:20260506T150000Z
DTSTAMP:20260423T080131Z
ORGANIZER;CN=Kursbokning - Lindes Garage:MAILTO:info@classicautorestore.se
GEO:57.917847;13.887853
X-APPLE-STRUCTURED-LOCATION;VALUE=URI;X-ADDRESS=Skolgatan 1A Mullsjö;X-APP
 LE-RADIUS=72;X-TITLE=Lindes Garage:57.917847;13.887853
END:VEVENT
END:VCALENDAR