BEGIN:VCALENDAR
VERSION:2.0
PRODID:Events Booking
BEGIN:VEVENT
UID:69ecbe84c411b
SUMMARY:Svetskurs 1 MIG & TIG - Mullsjö ons 10 juni 2026
DESCRIPTION:Introduktionskurs i MIG- och TIG- svetsning. Kursen passar bra 
 för alla som vill komma igång och har intresse för både MIG och TIG- s
 vetsning. På kursen blir det blir möjligt att jämföra och förstå ski
 lnaderna. Övningar i stål med moderna flerfunktionssvetsar.
LOCATION:Skolgatan 1A Mullsjö
DTSTART:20260610T070000Z
DTEND:20260610T150000Z
DTSTAMP:20260424T145112Z
ORGANIZER;CN=Kursbokning - Lindes Garage:MAILTO:info@classicautorestore.se
GEO:57.917847;13.887853
X-APPLE-STRUCTURED-LOCATION;VALUE=URI;X-ADDRESS=Skolgatan 1A Mullsjö;X-APP
 LE-RADIUS=72;X-TITLE=Lindes Garage:57.917847;13.887853
END:VEVENT
END:VCALENDAR